BEGIN:VCALENDAR
VERSION:2.0
PRODID:-//Turistička organizacija grada Zvornik - ECPv4.4.2//NONSGML v1.0//EN
CALSCALE:GREGORIAN
METHOD:PUBLISH
X-WR-CALNAME:Turistička organizacija grada Zvornik
X-ORIGINAL-URL:http://zvornikturizam.org/v2/bs
X-WR-CALDESC:Events for Turistička organizacija grada Zvornik
BEGIN:VEVENT
DTSTART;TZID=UTC+0:20170428T183000
DTEND;TZID=UTC+0:20170428T210000
DTSTAMP:20260422T174817
CREATED:20170424T071054Z
LAST-MODIFIED:20170424T071054Z
UID:3257-1493404200-1493413200@zvornikturizam.org
SUMMARY:Bioskop - Paklene ulice 8
DESCRIPTION:Karte za film su u prodaji od 24.04.2017. i mogu se kupiti u Domu omladine
URL:http://zvornikturizam.org/v2/bs/event/bioskop-paklene-ulice-8/
ATTACH;FMTTYPE=image/jpeg:http://zvornikturizam.org/v2/wp-content/uploads/2017/04/Paklene-ulice.jpg
END:VEVENT
END:VCALENDAR