BEGIN:VCALENDAR
VERSION:2.0
PRODID:-//Turistička organizacija grada Zvornik - ECPv4.4.2//NONSGML v1.0//EN
CALSCALE:GREGORIAN
METHOD:PUBLISH
X-WR-CALNAME:Turistička organizacija grada Zvornik
X-ORIGINAL-URL:http://zvornikturizam.org/v2/bs
X-WR-CALDESC:Events for Turistička organizacija grada Zvornik
BEGIN:VEVENT
DTSTART;TZID=UTC+0:20170722T120000
DTEND;TZID=UTC+0:20170722T133000
DTSTAMP:20260421T150755
CREATED:20170717T115734Z
LAST-MODIFIED:20170717T115734Z
UID:3512-1500724800-1500730200@zvornikturizam.org
SUMMARY:Bioskop za djecu - Kiriku II\, Dom omladine
DESCRIPTION:
URL:http://zvornikturizam.org/v2/bs/event/bioskop-za-djecu-kiriku-ii-dom-omladine/
ATTACH;FMTTYPE=image/jpeg:http://zvornikturizam.org/v2/wp-content/uploads/2017/07/bioskop-za-djecu.jpg
END:VEVENT
END:VCALENDAR