BEGIN:VCALENDAR
VERSION:2.0
PRODID:-//Turistička organizacija grada Zvornik - ECPv4.4.2//NONSGML v1.0//EN
CALSCALE:GREGORIAN
METHOD:PUBLISH
X-WR-CALNAME:Turistička organizacija grada Zvornik
X-ORIGINAL-URL:http://zvornikturizam.org/v2/bs
X-WR-CALDESC:Events for Turistička organizacija grada Zvornik
BEGIN:VEVENT
DTSTART;TZID=UTC+0:20170919T200000
DTEND;TZID=UTC+0:20170919T220000
DTSTAMP:20260421T105124
CREATED:20170919T105322Z
LAST-MODIFIED:20170919T105322Z
UID:3692-1505851200-1505858400@zvornikturizam.org
SUMMARY:Bioskop
DESCRIPTION:Projekcija filma "Umrijeti za neprijatelja" u 20h u Domu omladine.
URL:http://zvornikturizam.org/v2/bs/event/bioskop/
ATTACH;FMTTYPE=image/jpeg:http://zvornikturizam.org/v2/wp-content/uploads/2017/09/film-Umrijeti-za-neprijatelja.jpg
END:VEVENT
END:VCALENDAR