BEGIN:VCALENDAR
VERSION:2.0
PRODID:-//Turistička organizacija grada Zvornik - ECPv4.4.2//NONSGML v1.0//EN
CALSCALE:GREGORIAN
METHOD:PUBLISH
X-WR-CALNAME:Turistička organizacija grada Zvornik
X-ORIGINAL-URL:http://zvornikturizam.org/v2/bs
X-WR-CALDESC:Events for Turistička organizacija grada Zvornik
BEGIN:VEVENT
DTSTART;TZID=UTC+0:20170528T090000
DTEND;TZID=UTC+0:20170528T130000
DTSTAMP:20260422T131418
CREATED:20170517T093753Z
LAST-MODIFIED:20170517T093815Z
UID:3299-1495962000-1495976400@zvornikturizam.org
SUMMARY:Izlozba pasa svih rasa CAC BiH Zvornik
DESCRIPTION:Kinološko društvo Kanis Zvornik  i grad Zvornik\,  u nedelju 28 maja\,  organizuju drugu izložbu pasa svih rasa CAC BIH Zvornik .\n\nIzložba će biti održana na obali rijeke Drine ispod starog Mosta \, sa početkom u 9 časova. Prema riječima  predsjednika kinološkog društva Vladimira Stevanovića  očekuje se  oko 250 prijavljenih pasa i oko 1000 posjetilaca iz raznih gradova i država.  Ovom dogadjaju se najviše raduju najmladji članovi koji će imaju priliku vidjeti na jednom mjestu razne rase pasa i doba starosti\, istče Stevanović . On je dodao da svi vlasnici pasa svoje ljubimce mogu  prijaviti do 23 23 maja kada se zatvaraju prijave. (tekst i fotografija preuzeti su sa www.radioosvit.com)
URL:http://zvornikturizam.org/v2/bs/event/izlozba-pasa-svih-rasa-cac-bih-zvornik/
ATTACH;FMTTYPE=image/jpeg:http://zvornikturizam.org/v2/wp-content/uploads/2017/05/izlozbapasa-irskiseter625-625x330.jpg
END:VEVENT
END:VCALENDAR