BEGIN:VCALENDAR
VERSION:2.0
PRODID:-//Turistička organizacija grada Zvornik - ECPv4.4.2//NONSGML v1.0//EN
CALSCALE:GREGORIAN
METHOD:PUBLISH
X-WR-CALNAME:Turistička organizacija grada Zvornik
X-ORIGINAL-URL:http://zvornikturizam.org/v2/bs
X-WR-CALDESC:Events for Turistička organizacija grada Zvornik
BEGIN:VEVENT
DTSTART;TZID=UTC+0:20170527T080000
DTEND;TZID=UTC+0:20170528T140000
DTSTAMP:20260422T144157
CREATED:20170523T070131Z
LAST-MODIFIED:20170523T070143Z
UID:3335-1495872000-1495980000@zvornikturizam.org
SUMMARY:Memorijalni off road rally "Mišo Blagojević"
DESCRIPTION:U Zvorniku će 27. i 28. maja biti održan memorijalni Off road rally „Mišo Blagojević“\, čiji je organizator Auto moto klub „Extrem 4×4“\, suorganizator Rafring klub „Eko Drina“\, a generalni pokrovitelj Grad Zvornik.\n\nViše informacija na https://www.zvornikdanas.com/2017/05/posljednjeg-vikenda-u-maju-memorijalni-off-road-rally-miso-blagojevic/
URL:http://zvornikturizam.org/v2/bs/event/memorijalni-off-road-rally-miso-blagojevic/
ATTACH;FMTTYPE=image/jpeg:http://zvornikturizam.org/v2/wp-content/uploads/2017/05/off-road-rally.jpg
END:VEVENT
END:VCALENDAR