BEGIN:VCALENDAR
VERSION:2.0
PRODID:-//Turistička organizacija grada Zvornik - ECPv4.4.2//NONSGML v1.0//EN
CALSCALE:GREGORIAN
METHOD:PUBLISH
X-WR-CALNAME:Turistička organizacija grada Zvornik
X-ORIGINAL-URL:http://zvornikturizam.org/v2/bs
X-WR-CALDESC:Events for Turistička organizacija grada Zvornik
BEGIN:VEVENT
DTSTART;TZID=UTC+0:20170422T200000
DTEND;TZID=UTC+0:20170422T213000
DTSTAMP:20260422T215720
CREATED:20170418T065018Z
LAST-MODIFIED:20170418T065018Z
UID:3245-1492891200-1492896600@zvornikturizam.org
SUMMARY:Monodrama "Fejsbruka"
DESCRIPTION:U subotu 22. aprila sa početkom u 20h u Domu omladine biće odigrana monodrama Fejsbruka. Karte se mogu kupiti na dan predstave po cijeni od 4 KM. Monodramu režira i igra Siniša Maksimović.
URL:http://zvornikturizam.org/v2/bs/event/monodrama-fejsbruka/
ATTACH;FMTTYPE=image/jpeg:http://zvornikturizam.org/v2/wp-content/uploads/2017/04/Fejsbruka.jpg
END:VEVENT
END:VCALENDAR