BEGIN:VCALENDAR
VERSION:2.0
PRODID:-//Turistička organizacija grada Zvornik - ECPv4.4.2//NONSGML v1.0//EN
CALSCALE:GREGORIAN
METHOD:PUBLISH
X-WR-CALNAME:Turistička organizacija grada Zvornik
X-ORIGINAL-URL:http://zvornikturizam.org/v2/bs
X-WR-CALDESC:Events for Turistička organizacija grada Zvornik
BEGIN:VEVENT
DTSTART;TZID=UTC+0:20170330T200000
DTEND;TZID=UTC+0:20170330T213000
DTSTAMP:20260423T092315
CREATED:20170320T081522Z
LAST-MODIFIED:20170320T081522Z
UID:3190-1490904000-1490909400@zvornikturizam.org
SUMMARY:Pozorišna predstava Gazda Mladen u Domu omladine
DESCRIPTION:Pozorišna predstava "Gazda Mladen" je još jedan veliki multimedijalni projekat čiju produkciju potpisuju Dom omladine Zvornik\, Pozorište mladih Zvornik\, Saša Ikanović i The Pub. Priča o položaju muškarca u porodici prikazana kroz tri generacije jedne Kuće. Kako se postaje glava Kuće i kako se ostaje bez glave? Priču o glavnim likovima\, starim trgovačkim porodicama\, pričaju žene ispisujući u istoriju spomenicima svoju funkciju i značenje žene.\n\nPored tima glumaca\, Pozorišta mladih Zvornik u predstavi se pojavljuje i pas kao jedan od važnijih članova porodice (izvor:https://www.facebook.com/events/781069195379838/)\n\nKarte su u prodaji od 20.03.2017. godine u Domu omladine i u The Pub. Cijena karte iznosi 5 KM.\n\n 
URL:http://zvornikturizam.org/v2/bs/event/pozorisna-predstava-gazda-mladen-u-domu-omladine/
ATTACH;FMTTYPE=image/jpeg:http://zvornikturizam.org/v2/wp-content/uploads/2017/03/gazda-mladen.jpg
END:VEVENT
END:VCALENDAR