BEGIN:VCALENDAR
VERSION:2.0
PRODID:-//Turistička organizacija grada Zvornik - ECPv4.4.2//NONSGML v1.0//EN
CALSCALE:GREGORIAN
METHOD:PUBLISH
X-WR-CALNAME:Turistička organizacija grada Zvornik
X-ORIGINAL-URL:http://zvornikturizam.org/v2/bs
X-WR-CALDESC:Events for Turistička organizacija grada Zvornik
BEGIN:VEVENT
DTSTART;TZID=UTC+0:20170623T193000
DTEND;TZID=UTC+0:20170623T213000
DTSTAMP:20260422T004009
CREATED:20170621T080424Z
LAST-MODIFIED:20170621T080453Z
UID:3412-1498246200-1498253400@zvornikturizam.org
SUMMARY:Pozorišna predstava "Gorčilo-Jesi li to doš'o da me vidiš?"
DESCRIPTION:\nU Domu omladine Zvornik\, u petak 23. juna 2017. godine biće održana pozorišna predstava "Gorčilo-Jesi li to doš'o da me vidiš?" u izvođenju Ljubovijskog dramskog pozorišta sa početkom u 19h 30min.\n\n\nKroz predstavu se provlači mnoštvo tema – snovi malog čovjeka\, zabranjena ljubav\, iskupljenje i „promjena od petokrake ka krstu“.\n\nRadnja se događa 1968. čudesne godine u vremenu ideološke ostrašćenosti\, ali i velikih preokreta\, studentskih protesta\, hipi pokreta… Bez obzira što se dešava u jednom zabitom selu\, sve se to prolama kroz priču.\n\nU najkraćim mogućim crtama\, stari Maksim Obad odlučuje da uprkos volji porodice i prilikama u zemlji podigne spomenik sa ogromnim krstom na grobu\, ali kada odu da pogledaju spomenik\, porodica Obad primjećuje nešto čudno u vezi sa njim. Petrašin\, najmlađi iz porodice\, u vezi je sa djevojkom iz porodice Cvrkota\, a te dvije familije su dvije decenije u svađi i ne pričaju jedni sa drugima. Dobro poznati zaplet iz Verone\, samo što je ovde urađen na jedan komičan i simpatičan način.\n\nCijena karte je 3KM.\n\nVašu kartu možete kupiti u Domu omladine Zvornik.\n\n\n\n\n\n\n\n\n\n\n\n\n
URL:http://zvornikturizam.org/v2/bs/event/pozorisna-predstava-gorcilo-jesi-li-to-doso-da-me-vidis/
ATTACH;FMTTYPE=image/jpeg:http://zvornikturizam.org/v2/wp-content/uploads/2017/06/19399239_1710212819008404_8219844136932036032_n.jpg
END:VEVENT
END:VCALENDAR