BEGIN:VCALENDAR
VERSION:2.0
PRODID:-//Turistička organizacija grada Zvornik - ECPv4.4.2//NONSGML v1.0//EN
CALSCALE:GREGORIAN
METHOD:PUBLISH
X-WR-CALNAME:Turistička organizacija grada Zvornik
X-ORIGINAL-URL:http://zvornikturizam.org/v2/bs
X-WR-CALDESC:Events for Turistička organizacija grada Zvornik
BEGIN:VEVENT
DTSTART;TZID=UTC+0:20170321T200000
DTEND;TZID=UTC+0:20170321T210000
DTSTAMP:20260423T134638
CREATED:20170314T100225Z
LAST-MODIFIED:20170314T100225Z
UID:3177-1490126400-1490130000@zvornikturizam.org
SUMMARY:Pozorišna predstava Lilika u Domu omladine
DESCRIPTION:Pozorišna predstava Lilika u izvođenju Pozorišta mladih biće održana 21.marta u 20h. Ulaznice se mogu kupiti u Domu omladine od 13.03. po cijeni od 4KM.
URL:http://zvornikturizam.org/v2/bs/event/pozorisna-predstava-lilika-u-domu-omladine/
ATTACH;FMTTYPE=image/jpeg:http://zvornikturizam.org/v2/wp-content/uploads/2017/03/Lilika.jpg
END:VEVENT
END:VCALENDAR