BEGIN:VCALENDAR
VERSION:2.0
PRODID:-//Turistička organizacija grada Zvornik - ECPv4.4.2//NONSGML v1.0//EN
CALSCALE:GREGORIAN
METHOD:PUBLISH
X-WR-CALNAME:Turistička organizacija grada Zvornik
X-ORIGINAL-URL:http://zvornikturizam.org/v2/bs
X-WR-CALDESC:Events for Turistička organizacija grada Zvornik
BEGIN:VEVENT
DTSTART;TZID=UTC+0:20170613T200000
DTEND;TZID=UTC+0:20170613T213000
DTSTAMP:20260422T035815
CREATED:20170609T123353Z
LAST-MODIFIED:20170609T123452Z
UID:3402-1497384000-1497389400@zvornikturizam.org
SUMMARY:Pozorišna predstava "Mi nismo anđeli" u Domu omladine Zvornik
DESCRIPTION:Članovi dramske sekcije JU SŠC "Petar Kočić" odigraće predstavu "Mi nismo anđeli" u utorak 13.06.2017 u Domu omladine sa početkom u 20h. Ulaz je 2\,00KM.
URL:http://zvornikturizam.org/v2/bs/event/pozorisna-predstava-mi-nismo-andeli-u-domu-omladine-zvornik/
ATTACH;FMTTYPE=image/jpeg:http://zvornikturizam.org/v2/wp-content/uploads/2017/06/plakat-za-dramsku-sekciju.jpg
END:VEVENT
END:VCALENDAR