BEGIN:VCALENDAR
VERSION:2.0
PRODID:-//Turistička organizacija grada Zvornik - ECPv4.4.2//NONSGML v1.0//EN
CALSCALE:GREGORIAN
METHOD:PUBLISH
X-WR-CALNAME:Turistička organizacija grada Zvornik
X-ORIGINAL-URL:http://zvornikturizam.org/v2/bs
X-WR-CALDESC:Events for Turistička organizacija grada Zvornik
BEGIN:VEVENT
DTSTART;TZID=UTC+0:20170325T180000
DTEND;TZID=UTC+0:20170325T200000
DTSTAMP:20260423T105745
CREATED:20170315T075617Z
LAST-MODIFIED:20170315T075923Z
UID:3182-1490464800-1490472000@zvornikturizam.org
SUMMARY:Predavanje u organizaciji Svetosavske omladinske zajednice
DESCRIPTION:Predavanje "Najvažnija misija crkve" biće održano 25. marta u maloj sali Doma omladine sa početkom u 18h.
URL:http://zvornikturizam.org/v2/bs/event/predavanja-u-organizaciji-svetosavske-omladinske-zajednice/
END:VEVENT
END:VCALENDAR