BEGIN:VCALENDAR
VERSION:2.0
PRODID:-//Turistička organizacija grada Zvornik - ECPv4.4.2//NONSGML v1.0//EN
CALSCALE:GREGORIAN
METHOD:PUBLISH
X-WR-CALNAME:Turistička organizacija grada Zvornik
X-ORIGINAL-URL:http://zvornikturizam.org/v2/bs
X-WR-CALDESC:Events for Turistička organizacija grada Zvornik
BEGIN:VEVENT
DTSTART;TZID=UTC+0:20170407T183000
DTEND;TZID=UTC+0:20170407T193000
DTSTAMP:20260423T040246
CREATED:20170404T072326Z
LAST-MODIFIED:20170404T072605Z
UID:3235-1491589800-1491593400@zvornikturizam.org
SUMMARY:Predstava Frozen - Pozorištance Maslačak
DESCRIPTION:Predstava za djecu "Frozen - Olaf i Elza spašavaju Anu" biće odigrana 07.04  sa početkom u 18h 30 min. Ulaznice se mogu kupiti na dan predstave po cijeni od 3 KM.
URL:http://zvornikturizam.org/v2/bs/event/predstava-frozen-pozoristance-maslacak/
ATTACH;FMTTYPE=image/jpeg:http://zvornikturizam.org/v2/wp-content/uploads/2017/04/Frozen-predstava.jpg
END:VEVENT
END:VCALENDAR