BEGIN:VCALENDAR
VERSION:2.0
PRODID:-//Turistička organizacija grada Zvornik - ECPv4.4.2//NONSGML v1.0//EN
CALSCALE:GREGORIAN
METHOD:PUBLISH
X-WR-CALNAME:Turistička organizacija grada Zvornik
X-ORIGINAL-URL:http://zvornikturizam.org/v2/bs
X-WR-CALDESC:Events for Turistička organizacija grada Zvornik
BEGIN:VEVENT
DTSTART;TZID=UTC+0:20170420T183000
DTEND;TZID=UTC+0:20170420T200000
DTSTAMP:20260422T233140
CREATED:20170420T123944Z
LAST-MODIFIED:20170420T124614Z
UID:3252-1492713000-1492718400@zvornikturizam.org
SUMMARY:Predstava "Zaljubiška"
DESCRIPTION:Predstava "Zaljubiška" biće odigrana 20.04.2017. godine u Domu omladine sa početkom u 18h i 30 min. Predstavu je režirala Božica Ostojić prema tekstu Save Škobića.
URL:http://zvornikturizam.org/v2/bs/event/predstava-zaljubiska/
END:VEVENT
END:VCALENDAR