BEGIN:VCALENDAR
VERSION:2.0
PRODID:-//Turistička organizacija grada Zvornik - ECPv4.4.2//NONSGML v1.0//EN
CALSCALE:GREGORIAN
METHOD:PUBLISH
X-WR-CALNAME:Turistička organizacija grada Zvornik
X-ORIGINAL-URL:http://zvornikturizam.org/v2/bs
X-WR-CALDESC:Events for Turistička organizacija grada Zvornik
BEGIN:VEVENT
DTSTART;TZID=UTC+0:20170529T163000
DTEND;TZID=UTC+0:20170529T180000
DTSTAMP:20260422T114637
CREATED:20170525T123424Z
LAST-MODIFIED:20170525T124143Z
UID:3351-1496075400-1496080800@zvornikturizam.org
SUMMARY:Štrumpfovi - Skriveno selo\, 3D sinhronizovani crtani film
DESCRIPTION:Štrumpfovi Nikad nisu bili sami\, Skriveno selo 3D sinhronizovani crtani film biće ponovo prikazan na zahtjev publike. Film će biti prikazan u Domu omladine 29.05.2017. godine sa početkom od 16h30min. Karte se mogu kupiti svaki dan (osim nedelje) u periodu od 10h do 18h.
URL:http://zvornikturizam.org/v2/bs/event/strumpfovi-skriveno-selo-3d-sinhronizovani-crtani-film-2/
ATTACH;FMTTYPE=image/jpeg:http://zvornikturizam.org/v2/wp-content/uploads/2017/05/strumpfovi.jpg
END:VEVENT
END:VCALENDAR