BEGIN:VCALENDAR
VERSION:2.0
PRODID:-//Turistička organizacija grada Zvornik - ECPv4.4.2//NONSGML v1.0//EN
CALSCALE:GREGORIAN
METHOD:PUBLISH
X-WR-CALNAME:Turistička organizacija grada Zvornik
X-ORIGINAL-URL:http://zvornikturizam.org/v2/bs
X-WR-CALDESC:Events for Turistička organizacija grada Zvornik
BEGIN:VEVENT
DTSTART;TZID=UTC+0:20170428T170000
DTEND;TZID=UTC+0:20170428T180000
DTSTAMP:20260422T190405
CREATED:20170424T070752Z
LAST-MODIFIED:20170424T071126Z
UID:3254-1493398800-1493402400@zvornikturizam.org
SUMMARY:Štrumpfovi - Skriveno selo\, 3D sinhronizovani crtani film
DESCRIPTION:Štrumpfovi Nikad nisu bili sami\, Skriveno selo 3D sinhronizovani crtani film biće prikazan u Domu omladine 28.04.2017. godine sa početkom od 17h. Karte su u prodaji od 24.04. 2017.
URL:http://zvornikturizam.org/v2/bs/event/strumpfovi-skriveno-selo-3d-sinhronizovani-crtani-film/
ATTACH;FMTTYPE=image/jpeg:http://zvornikturizam.org/v2/wp-content/uploads/2017/04/Štrumpfovi.jpg
END:VEVENT
END:VCALENDAR