BEGIN:VCALENDAR
VERSION:2.0
PRODID:-//Turistička organizacija grada Zvornik - ECPv4.4.2//NONSGML v1.0//EN
CALSCALE:GREGORIAN
METHOD:PUBLISH
X-WR-CALNAME:Turistička organizacija grada Zvornik
X-ORIGINAL-URL:http://zvornikturizam.org/v2/bs
X-WR-CALDESC:Events for Turistička organizacija grada Zvornik
BEGIN:VEVENT
DTSTART;TZID=UTC+0:20170413T113000
DTEND;TZID=UTC+0:20170413T140000
DTSTAMP:20260423T023438
CREATED:20170410T070346Z
LAST-MODIFIED:20170410T070346Z
UID:3238-1492083000-1492092000@zvornikturizam.org
SUMMARY:Vaskršnje čarolije
DESCRIPTION:Nraodna biblioteka Zvornik organizuje tradicionalnu manifestaciju "Vaskršnje čarolije"\, koja prodrazumjeva takmičenje zvorničkih mališana u ukrašavanju vaskršnjih jaja. Manifestacija će biti održana u četvrtak 13. aprila od 10h 30min do 14h.
URL:http://zvornikturizam.org/v2/bs/event/vaskrsnje-carolije/
END:VEVENT
END:VCALENDAR