BEGIN:VCALENDAR
VERSION:2.0
PRODID:-//Turistička organizacija grada Zvornik - ECPv4.4.2//NONSGML v1.0//EN
CALSCALE:GREGORIAN
METHOD:PUBLISH
X-WR-CALNAME:Turistička organizacija grada Zvornik
X-ORIGINAL-URL:http://zvornikturizam.org/v2/bs
X-WR-CALDESC:Events for Turistička organizacija grada Zvornik
BEGIN:VEVENT
DTSTART;TZID=UTC+0:20170621T080000
DTEND;TZID=UTC+0:20170625T220000
DTSTAMP:20260422T021830
CREATED:20170524T101520Z
LAST-MODIFIED:20170525T124241Z
UID:3343-1498032000-1498428000@zvornikturizam.org
SUMMARY:Vjersko putovanje iz Zvornika u pravoslavnu Grčku
DESCRIPTION:U periodu od 21. do 25. juna biće organizovano putovanje "U sretanje Svetom Nektariju i svetinjama pravoslavne Grčke".  Cijena putovanja je 200 evra (4 noćenja\, trajekt na relaciji Pirej-Egina-Pirej\, usluge licenciranog pratioca). Više informacija na +381 64 570 7 157; +387 65 905 625
URL:http://zvornikturizam.org/v2/bs/event/vjersko-putovanje-iz-zvornika-u-pravoslavnu-grcku/
ATTACH;FMTTYPE=image/jpeg:http://zvornikturizam.org/v2/wp-content/uploads/2017/05/slika1-001.jpg
END:VEVENT
END:VCALENDAR