BEGIN:VCALENDAR
VERSION:2.0
PRODID:-//Turistička organizacija grada Zvornik - ECPv4.4.2//NONSGML v1.0//EN
CALSCALE:GREGORIAN
METHOD:PUBLISH
X-WR-CALNAME:Turistička organizacija grada Zvornik
X-ORIGINAL-URL:http://zvornikturizam.org/v2/en
X-WR-CALDESC:Events for Turistička organizacija grada Zvornik
BEGIN:VEVENT
DTSTART;TZID=UTC+0:20170624T180000
DTEND;TZID=UTC+0:20170624T200000
DTSTAMP:20260422T003533
CREATED:20170621T074158Z
LAST-MODIFIED:20170622T092842Z
UID:3406-1498327200-1498334400@zvornikturizam.org
SUMMARY:12. Vidovdanski sabor
DESCRIPTION:Sorry\, this entry is only available in Bosnian.
URL:http://zvornikturizam.org/v2/en/event/12-vidovdanski-sabor/
ATTACH;FMTTYPE=image/jpeg:http://zvornikturizam.org/v2/wp-content/uploads/2017/06/IMG_20170620_075318.jpg
END:VEVENT
END:VCALENDAR