BEGIN:VCALENDAR
VERSION:2.0
PRODID:-//Turistička organizacija grada Zvornik - ECPv4.4.2//NONSGML v1.0//EN
CALSCALE:GREGORIAN
METHOD:PUBLISH
X-WR-CALNAME:Turistička organizacija grada Zvornik
X-ORIGINAL-URL:http://zvornikturizam.org/v2/en
X-WR-CALDESC:Events for Turistička organizacija grada Zvornik
BEGIN:VEVENT
DTSTART;TZID=UTC+0:20170920T200000
DTEND;TZID=UTC+0:20170920T220000
DTSTAMP:20260421T112039
CREATED:20170919T105458Z
LAST-MODIFIED:20170919T105458Z
UID:3695-1505937600-1505944800@zvornikturizam.org
SUMMARY:Bioskop
DESCRIPTION:Sorry\, this entry is only available in Bosnian.
URL:http://zvornikturizam.org/v2/en/event/bioskop-2/
ATTACH;FMTTYPE=image/jpeg:http://zvornikturizam.org/v2/wp-content/uploads/2017/09/film-Veži-me.jpg
END:VEVENT
END:VCALENDAR