BEGIN:VCALENDAR
VERSION:2.0
PRODID:-//Turistička organizacija grada Zvornik - ECPv4.4.2//NONSGML v1.0//EN
CALSCALE:GREGORIAN
METHOD:PUBLISH
X-WR-CALNAME:Turistička organizacija grada Zvornik
X-ORIGINAL-URL:http://zvornikturizam.org/v2/en
X-WR-CALDESC:Events for Turistička organizacija grada Zvornik
BEGIN:VEVENT
DTSTART;TZID=UTC+0:20170723T120000
DTEND;TZID=UTC+0:20170723T133000
DTSTAMP:20260421T121304
CREATED:20170717T115830Z
LAST-MODIFIED:20170717T115830Z
UID:3514-1500811200-1500816600@zvornikturizam.org
SUMMARY:Bioskop za djecu - Beti III\, Dom omladine
DESCRIPTION:
URL:http://zvornikturizam.org/v2/en/event/bioskop-za-djecu-beti-iii-dom-omladine/
ATTACH;FMTTYPE=image/jpeg:http://zvornikturizam.org/v2/wp-content/uploads/2017/07/bioskop-za-djecu.jpg
END:VEVENT
END:VCALENDAR