BEGIN:VCALENDAR
VERSION:2.0
PRODID:-//Turistička organizacija grada Zvornik - ECPv4.4.2//NONSGML v1.0//EN
CALSCALE:GREGORIAN
METHOD:PUBLISH
X-WR-CALNAME:Turistička organizacija grada Zvornik
X-ORIGINAL-URL:http://zvornikturizam.org/v2/en
X-WR-CALDESC:Events for Turistička organizacija grada Zvornik
BEGIN:VEVENT
DTSTART;TZID=UTC+0:20181102T110000
DTEND;TZID=UTC+0:20181102T180000
DTSTAMP:20260421T105619
CREATED:20181031T101724Z
LAST-MODIFIED:20181031T101724Z
UID:4016-1541156400-1541181600@zvornikturizam.org
SUMMARY:Festival dječijeg muzičko-scenskog stvaralaštva
DESCRIPTION:Sorry\, this entry is only available in Bosnian.
URL:http://zvornikturizam.org/v2/en/event/festival-djecijeg-muzicko-scenskog-stvaralastva/
ATTACH;FMTTYPE=image/png:http://zvornikturizam.org/v2/wp-content/uploads/2018/10/45141395_202640240631474_2237628929869348864_n.png
END:VEVENT
END:VCALENDAR