BEGIN:VCALENDAR
VERSION:2.0
PRODID:-//Turistička organizacija grada Zvornik - ECPv4.4.2//NONSGML v1.0//EN
CALSCALE:GREGORIAN
METHOD:PUBLISH
X-WR-CALNAME:Turistička organizacija grada Zvornik
X-ORIGINAL-URL:http://zvornikturizam.org/v2/en
X-WR-CALDESC:Events for Turistička organizacija grada Zvornik
BEGIN:VEVENT
DTSTART;TZID=UTC+0:20170406T180000
DTEND;TZID=UTC+0:20170406T203000
DTSTAMP:20260423T064128
CREATED:20170403T065506Z
LAST-MODIFIED:20170403T065506Z
UID:3229-1491501600-1491510600@zvornikturizam.org
SUMMARY:Lepotica i zver
DESCRIPTION:Sorry\, this entry is only available in Bosnian.
URL:http://zvornikturizam.org/v2/en/event/lepotica-i-zver/
ATTACH;FMTTYPE=image/jpeg:http://zvornikturizam.org/v2/wp-content/uploads/2017/04/lepotica-i-zver.jpg
END:VEVENT
END:VCALENDAR