BEGIN:VCALENDAR
VERSION:2.0
PRODID:-//Turistička organizacija grada Zvornik - ECPv4.4.2//NONSGML v1.0//EN
CALSCALE:GREGORIAN
METHOD:PUBLISH
X-WR-CALNAME:Turistička organizacija grada Zvornik
X-ORIGINAL-URL:http://zvornikturizam.org/v2/en
X-WR-CALDESC:Events for Turistička organizacija grada Zvornik
BEGIN:VEVENT
DTSTART;TZID=UTC+0:20170323T180000
DTEND;TZID=UTC+0:20170323T230000
DTSTAMP:20260423T134800
CREATED:20170320T080418Z
LAST-MODIFIED:20170320T080418Z
UID:3187-1490292000-1490310000@zvornikturizam.org
SUMMARY:Projekcija filma "Na Mlečnom putu" u Domu omladine Zvornik
DESCRIPTION:Sorry\, this entry is only available in Bosnian.
URL:http://zvornikturizam.org/v2/en/event/projekcija-filma-na-mlecnom-putu-u-domu-omladine-zvornik/
ATTACH;FMTTYPE=image/jpeg:http://zvornikturizam.org/v2/wp-content/uploads/2017/03/na-mlečnom-putu.jpg
END:VEVENT
END:VCALENDAR