BEGIN:VCALENDAR
VERSION:2.0
PRODID:-//Turistička organizacija grada Zvornik - ECPv4.4.2//NONSGML v1.0//EN
CALSCALE:GREGORIAN
METHOD:PUBLISH
X-WR-CALNAME:Turistička organizacija grada Zvornik
X-ORIGINAL-URL:http://zvornikturizam.org/v2/en
X-WR-CALDESC:Events for Turistička organizacija grada Zvornik
BEGIN:VEVENT
DTSTART;TZID=UTC+0:20170426T190000
DTEND;TZID=UTC+0:20170426T200000
DTSTAMP:20260422T220332
CREATED:20170424T071550Z
LAST-MODIFIED:20170424T071550Z
UID:3260-1493233200-1493236800@zvornikturizam.org
SUMMARY:Promocija knjige "Visina dubine" aforizmi autora Stanislava Tomića
DESCRIPTION:Sorry\, this entry is only available in Bosnian.
URL:http://zvornikturizam.org/v2/en/event/promocija-knjige-visina-dubine-aforizmi-autora-stanislava-tomica/
ATTACH;FMTTYPE=image/jpeg:http://zvornikturizam.org/v2/wp-content/uploads/2017/04/Visina-dubine-aforizmi.jpg
END:VEVENT
END:VCALENDAR