BEGIN:VCALENDAR
VERSION:2.0
PRODID:-//Turistička organizacija grada Zvornik - ECPv4.4.2//NONSGML v1.0//EN
CALSCALE:GREGORIAN
METHOD:PUBLISH
X-WR-CALNAME:Turistička organizacija grada Zvornik
X-ORIGINAL-URL:http://zvornikturizam.org/v2/en
X-WR-CALDESC:Events for Turistička organizacija grada Zvornik
BEGIN:VEVENT
DTSTART;TZID=UTC+0:20180123T180000
DTEND;TZID=UTC+0:20180203T230000
DTSTAMP:20260421T092717
CREATED:20180122T133911Z
LAST-MODIFIED:20180122T133911Z
UID:3868-1516730400-1517698800@zvornikturizam.org
SUMMARY:Svetosavska nedelja 2018.
DESCRIPTION:Sorry\, this entry is only available in Bosnian.
URL:http://zvornikturizam.org/v2/en/event/svetosavska-nedelja-2018/
ATTACH;FMTTYPE=image/jpeg:http://zvornikturizam.org/v2/wp-content/uploads/2018/01/svetosavska-nedelja.jpg
END:VEVENT
END:VCALENDAR