BEGIN:VCALENDAR
VERSION:2.0
PRODID:-//Turistička organizacija grada Zvornik - ECPv4.4.2//NONSGML v1.0//EN
CALSCALE:GREGORIAN
METHOD:PUBLISH
X-WR-CALNAME:Turistička organizacija grada Zvornik
X-ORIGINAL-URL:http://zvornikturizam.org/v2/en
X-WR-CALDESC:Events for Turistička organizacija grada Zvornik
BEGIN:VEVENT
DTSTART;VALUE=DATE:20170220
DTEND;VALUE=DATE:20170220
DTSTAMP:20260421T201626
CREATED:20170214T172732Z
LAST-MODIFIED:20170214T172732Z
UID:3110-1487548800-1487635199@zvornikturizam.org
SUMMARY:World Day of Social Justice
DESCRIPTION:World Day of Social Justice
URL:http://zvornikturizam.org/v2/en/event/svjetski-dan-socijalne-pravde/
END:VEVENT
END:VCALENDAR