BEGIN:VCALENDAR
VERSION:2.0
PRODID:-//Turistička organizacija grada Zvornik - ECPv4.4.2//NONSGML v1.0//EN
CALSCALE:GREGORIAN
METHOD:PUBLISH
X-WR-CALNAME:Turistička organizacija grada Zvornik
X-ORIGINAL-URL:http://zvornikturizam.org/v2/en
X-WR-CALDESC:Events for Turistička organizacija grada Zvornik
BEGIN:VEVENT
DTSTART;TZID=UTC+0:20170401T180000
DTEND;TZID=UTC+0:20170401T190000
DTSTAMP:20260423T095604
CREATED:20170315T075855Z
LAST-MODIFIED:20170315T075855Z
UID:3184-1491069600-1491073200@zvornikturizam.org
SUMMARY:Vaskršnje predavanje u organizaciji Svetosavske omladinske zajednice
DESCRIPTION:Sorry\, this entry is only available in Bosnian.
URL:http://zvornikturizam.org/v2/en/event/vaskrsnje-predavanje-u-organizaciji-svetosavske-omladinske-zajednice/
END:VEVENT
END:VCALENDAR