BEGIN:VCALENDAR
VERSION:2.0
PRODID:-//Turistička organizacija grada Zvornik - ECPv4.4.2//NONSGML v1.0//EN
CALSCALE:GREGORIAN
METHOD:PUBLISH
X-WR-CALNAME:Turistička organizacija grada Zvornik
X-ORIGINAL-URL:http://zvornikturizam.org/v2/en
X-WR-CALDESC:Events for Turistička organizacija grada Zvornik
BEGIN:VEVENT
DTSTART;TZID=UTC+0:20170802T110000
DTEND;TZID=UTC+0:20170808T230000
DTSTAMP:20260421T092647
CREATED:20170802T130103Z
LAST-MODIFIED:20170802T130103Z
UID:3556-1501671600-1502233200@zvornikturizam.org
SUMMARY:Zvorničko ljeto
DESCRIPTION:
URL:http://zvornikturizam.org/v2/en/event/zvornicko-ljeto/
ATTACH;FMTTYPE=image/jpeg:http://zvornikturizam.org/v2/wp-content/uploads/2017/08/ZL.jpg
END:VEVENT
END:VCALENDAR